BEGIN:VCALENDAR
VERSION:2.0
PRODID:-//eventon.com NONSGML v1.0//EN
CALSCALE:GREGORIAN
METHOD:PUBLISH
BEGIN:VEVENT
UID:69e6d7b9883a7
DTSTAMP:20260421T014945Z
DTSTART:20190614T104500Z
DTEND:20190614T215000Z
LOCATION:Musikene
SUMMARY:EXAMEN FIN DE CARRERA jazz-bajo electrico
DESCRIPTION:EXAMEN FIN DE CARRERA jazz-bajo electrico\nhttps://musikene.eus
 /events/examen-fin-de-carrera-jazz-bajo-electrico/
URL:https://musikene.eus/events/examen-fin-de-carrera-jazz-bajo-electrico/
END:VEVENT
END:VCALENDAR