BEGIN:VCALENDAR
VERSION:2.0
PRODID:-//eventon.com NONSGML v1.0//EN
CALSCALE:GREGORIAN
METHOD:PUBLISH
BEGIN:VEVENT
UID:69e7b861ec46c
DTSTAMP:20260421T174817Z
DTSTART:20190607T140000Z
DTEND:20190607T215000Z
LOCATION:Musikene
SUMMARY:EXAMEN FIN DE CARRERA canto
DESCRIPTION:EXAMEN FIN DE CARRERA canto\nhttps://musikene.eus/events/examen
 -fin-de-carrera-canto/
URL:https://musikene.eus/events/examen-fin-de-carrera-canto/
END:VEVENT
END:VCALENDAR