BEGIN:VCALENDAR
VERSION:2.0
PRODID:-//eventon.com NONSGML v1.0//EN
CALSCALE:GREGORIAN
METHOD:PUBLISH
BEGIN:VEVENT
UID:69ed1c29740fa
DTSTAMP:20260425T195521Z
DTSTART:20190605T140000Z
DTEND:20190605T215000Z
LOCATION:Musikene
SUMMARY:EXAMEN FIN DE CARRERA piano
DESCRIPTION:EXAMEN FIN DE CARRERA piano\nhttps://musikene.eus/events/examen
 -fin-de-carrera-piano/
URL:https://musikene.eus/events/examen-fin-de-carrera-piano/
END:VEVENT
END:VCALENDAR