BEGIN:VCALENDAR
VERSION:2.0
PRODID:-//eventon.com NONSGML v1.0//EN
CALSCALE:GREGORIAN
METHOD:PUBLISH
BEGIN:VEVENT
UID:69e72e710e5aa
DTSTAMP:20260421T075945Z
DTSTART:20190603T090000Z
DTEND:20190603T215000Z
LOCATION:Musikene
SUMMARY:EXAMEN FIN DE CARRERA OBOE
DESCRIPTION:EXAMEN FIN DE CARRERA OBOE\nhttps://musikene.eus/events/examen-
 fin-de-carrera-oboe/?lang=fr
URL:https://musikene.eus/events/examen-fin-de-carrera-oboe/?lang=fr
END:VEVENT
END:VCALENDAR