BEGIN:VCALENDAR
VERSION:2.0
PRODID:-//eventon.com NONSGML v1.0//EN
CALSCALE:GREGORIAN
METHOD:PUBLISH
BEGIN:VEVENT
UID:69ed250718558
DTSTAMP:20260425T203311Z
DTSTART:20190708T080000Z
DTEND:20190709T133000Z
LOCATION:Musikene
SUMMARY:BODY MUSIC Ikastaroa
DESCRIPTION:Body Music ikastaroa (12 ordu): gorputz perkusioa\,  erritmoa\,
   tempoaren kontrola\,  entzuteko ahalmena\,  eta abar Ordutegia: Uztailare
 n 8 eta 9: 10 a 13:30 / 15:30 a 18:30 Prezioa: 95 Euro Inskripzioa egiteko:
  http://bit.ly/BodyMusicEUS19 &nbsp;\nhttps://musikene.eus/events/curso-bod
 y-music/?lang=eu
URL:https://musikene.eus/events/curso-body-music/?lang=eu
END:VEVENT
END:VCALENDAR