BEGIN:VCALENDAR
VERSION:2.0
PRODID:-//eventon.com NONSGML v1.0//EN
CALSCALE:GREGORIAN
METHOD:PUBLISH
BEGIN:VEVENT
UID:69ed3c8c14899
DTSTAMP:20260425T221332Z
DTSTART:20190708T080000Z
DTEND:20190709T133000Z
LOCATION:Musikene
SUMMARY:CANCELADO ! - Curso BODY MUSIC
DESCRIPTION:Curso de 12 horas de Body Music: percusión corporal\,  control
  del tiempo\,  capacidad auditiva\,  expresividad\,  etc. Horarios: 8 y 9 
  de julio: 10 a 13:30 / 15:30 a 18:30 Precio: 95 Euros Formulario de inscri
 pción: http://bit.ly/BodyMusicEUS19 &nbsp;\nhttps://musikene.eus/events/cu
 rso-body-music/?lang=en
URL:https://musikene.eus/events/curso-body-music/?lang=en
END:VEVENT
END:VCALENDAR