BEGIN:VCALENDAR
VERSION:2.0
PRODID:-//eventon.com NONSGML v1.0//EN
CALSCALE:GREGORIAN
METHOD:PUBLISH
BEGIN:VEVENT
UID:69e8d30a607ec
DTSTAMP:20260422T135418Z
DTSTART:20190520T083000Z
DTEND:20190520T215000Z
LOCATION:Musikene
SUMMARY:audición trompeta
DESCRIPTION:Alumnado de Luis González y José Gallego.\nhttps://musikene.e
 us/events/audicion-trompeta-3/
URL:https://musikene.eus/events/audicion-trompeta-3/
END:VEVENT
END:VCALENDAR