BEGIN:VCALENDAR
VERSION:2.0
PRODID:-//eventon.com NONSGML v1.0//EN
CALSCALE:GREGORIAN
METHOD:PUBLISH
BEGIN:VEVENT
UID:69ec2cf4c3675
DTSTAMP:20260425T025444Z
DTSTART:20190509T173000Z
DTEND:20190509T215000Z
LOCATION:Musikene
SUMMARY:OBOE entzunaldia
DESCRIPTION:Laura Marcos irakaslearen ikasleagoa\nhttps://musikene.eus/even
 ts/audicion-oboe/?lang=eu
URL:https://musikene.eus/events/audicion-oboe/?lang=eu
END:VEVENT
END:VCALENDAR