BEGIN:VCALENDAR
VERSION:2.0
PRODID:-//eventon.com NONSGML v1.0//EN
CALSCALE:GREGORIAN
METHOD:PUBLISH
BEGIN:VEVENT
UID:69ec1559d9f50
DTSTAMP:20260425T011401Z
DTSTART:20190509T173000Z
DTEND:20190509T215000Z
LOCATION:Musikene
SUMMARY:Audición OBOE
DESCRIPTION:Alumnado de Laura Marcos\nhttps://musikene.eus/events/audicion-
 oboe/?lang=en
URL:https://musikene.eus/events/audicion-oboe/?lang=en
END:VEVENT
END:VCALENDAR