BEGIN:VCALENDAR
VERSION:2.0
PRODID:-//eventon.com NONSGML v1.0//EN
CALSCALE:GREGORIAN
METHOD:PUBLISH
BEGIN:VEVENT
UID:69e9ad4cbf532
DTSTAMP:20260423T052532Z
DTSTART:20190508T180000Z
DTEND:20190508T215000Z
LOCATION:Musikene
SUMMARY:PIANO entzunaldia
DESCRIPTION:Miguel Ituarte irakaslearen ikasleagoa\nhttps://musikene.eus/ev
 ents/audicion-piano-4/?lang=eu
URL:https://musikene.eus/events/audicion-piano-4/?lang=eu
END:VEVENT
END:VCALENDAR