BEGIN:VCALENDAR
VERSION:2.0
PRODID:-//eventon.com NONSGML v1.0//EN
CALSCALE:GREGORIAN
METHOD:PUBLISH
BEGIN:VEVENT
UID:69eacc1629ec9
DTSTAMP:20260424T014910Z
DTSTART:20190507T160000Z
DTEND:20190507T215000Z
LOCATION:Musikene
SUMMARY:GANBERA MUSIKA entzunaldia
DESCRIPTION:Vicente Enrique Boix irakaslearen ikasleagoa\nhttps://musikene.
 eus/events/audicion-musica-de-camara-2/?lang=eu
URL:https://musikene.eus/events/audicion-musica-de-camara-2/?lang=eu
END:VEVENT
END:VCALENDAR