BEGIN:VCALENDAR
VERSION:2.0
PRODID:-//eventon.com NONSGML v1.0//EN
CALSCALE:GREGORIAN
METHOD:PUBLISH
BEGIN:VEVENT
UID:69eae2cf1e85c
DTSTAMP:20260424T032607Z
DTSTART:20190507T160000Z
DTEND:20190507T215000Z
LOCATION:Musikene
SUMMARY:Audición MÚSICA DE CÁMARA
DESCRIPTION:Alumnado de Vicente Enrique Boix\nhttps://musikene.eus/events/a
 udicion-musica-de-camara-2/
URL:https://musikene.eus/events/audicion-musica-de-camara-2/
END:VEVENT
END:VCALENDAR