BEGIN:VCALENDAR
VERSION:2.0
PRODID:-//eventon.com NONSGML v1.0//EN
CALSCALE:GREGORIAN
METHOD:PUBLISH
BEGIN:VEVENT
UID:69ece547d80ff
DTSTAMP:20260425T160111Z
DTSTART:20190506T130000Z
DTEND:20190506T215000Z
LOCATION:Musikene
SUMMARY:Audición VIOLIN
DESCRIPTION:Alumnado de C. Bucataru y E. Pereda.\nhttps://musikene.eus/even
 ts/audicion-violin-3/?lang=en
URL:https://musikene.eus/events/audicion-violin-3/?lang=en
END:VEVENT
END:VCALENDAR