BEGIN:VCALENDAR
VERSION:2.0
PRODID:-//eventon.com NONSGML v1.0//EN
CALSCALE:GREGORIAN
METHOD:PUBLISH
BEGIN:VEVENT
UID:69ed05918baa9
DTSTAMP:20260425T181857Z
DTSTART:20190430T173000Z
DTEND:20190430T215000Z
LOCATION:Sociedad Bilbaína Nafarroa kalea\,  1
SUMMARY:Concierto CUARTETO DE SAXOS LAUBURU
DESCRIPTION:Organizado por JUVENTUDES MUSICALES DE BILBAO Raúl Pérez Laur
 ie Curutchet Claudia Llauradó Andrea Castaño G. Pierné: Introduction eta
  Variation G. Gerswuin: Los tres preludios S. Barber: Adagio A. Piazzola: L
 ibertango\nhttps://musikene.eus/events/concierto-cuarteto-de-saxos-lauburu/
 ?lang=eu
URL:https://musikene.eus/events/concierto-cuarteto-de-saxos-lauburu/?lang=eu
END:VEVENT
END:VCALENDAR