BEGIN:VCALENDAR
VERSION:2.0
PRODID:-//eventon.com NONSGML v1.0//EN
CALSCALE:GREGORIAN
METHOD:PUBLISH
BEGIN:VEVENT
UID:69ed637baca57
DTSTAMP:20260426T005939Z
DTSTART:20190411T170000Z
DTEND:20190411T215000Z
LOCATION:Musikene
SUMMARY:Audición ARPA
DESCRIPTION:Alumnado de Christine Icart.\nhttps://musikene.eus/events/audic
 ion-arpa/
URL:https://musikene.eus/events/audicion-arpa/
END:VEVENT
END:VCALENDAR