BEGIN:VCALENDAR
VERSION:2.0
PRODID:-//eventon.com NONSGML v1.0//EN
CALSCALE:GREGORIAN
METHOD:PUBLISH
BEGIN:VEVENT
UID:69eb2e8e3fec6
DTSTAMP:20260424T084918Z
DTSTART:20190502T080000Z
DTEND:20190504T110000Z
LOCATION:Musikene
SUMMARY:FLAUTA
DESCRIPTION:Gracias al programa Erasmus\,  la Flautista Laudio Bucchini imp
 artirá clases 2\, 3 y 4 de mayo al alumnado de Musikene. 02/05: 10:00-13:3
 0/ 15:30-18:30 03/05: 10:00-13:30/ 15:30-18:30 04/05: 10:00-13:00\nhttps:/
 /musikene.eus/events/flauta/
URL:https://musikene.eus/events/flauta/
END:VEVENT
END:VCALENDAR