BEGIN:VCALENDAR
VERSION:2.0
PRODID:-//eventon.com NONSGML v1.0//EN
CALSCALE:GREGORIAN
METHOD:PUBLISH
BEGIN:VEVENT
UID:69ed43d2087eb
DTSTAMP:20260425T224434Z
DTSTART:20190212T190000Z
DTEND:20190212T225000Z
LOCATION:Sala VITAL aretoa (Dendaraba)
SUMMARY:Concierto CUARTETO SAXOS LAUBURU
DESCRIPTION:Organizado por FUNDACIÓN VITAL – MARTES MUSICALES Raúl Pér
 ez Laurie Curutchet Claudia Llauradó Andrea Castaño G. Pierné: Introduct
 ion eta Variation G. Gerswuin: Los tres preludios S. Barber: Adagio A. Piaz
 zola: Libertango\nhttps://musikene.eus/events/concierto-cuarteto-saxos-laub
 uru/
URL:https://musikene.eus/events/concierto-cuarteto-saxos-lauburu/
END:VEVENT
END:VCALENDAR