BEGIN:VCALENDAR
VERSION:2.0
PRODID:-//eventon.com NONSGML v1.0//EN
CALSCALE:GREGORIAN
METHOD:PUBLISH
BEGIN:VEVENT
UID:69ed2b001e114
DTSTAMP:20260425T205840Z
DTSTART:20190118T103300Z
DTEND:20190118T103300Z
LOCATION:Sala VITAL aretoa (Dendaraba)
SUMMARY:Concierto CUARTETO SAXOS LAUBURU
DESCRIPTION:Organizado por FUNDACIÓN VITAL – MARTES MUSICALES Raúl Pér
 ez Laurie Curutchet Claudia Llauradó Andrea Castaño G. Pierné: Introduct
 ion eta Variation G. Gerswuin: Los tres preludios S. Barber: Adagio A. Piaz
 zola: Libertango\nhttps://musikene.eus/events/concierto-cuarteto-saxos-laub
 uru/?lang=en
URL:https://musikene.eus/events/concierto-cuarteto-saxos-lauburu/?lang=en
END:VEVENT
END:VCALENDAR