BEGIN:VCALENDAR
VERSION:2.0
PRODID:-//eventon.com NONSGML v1.0//EN
CALSCALE:GREGORIAN
METHOD:PUBLISH
BEGIN:VEVENT
UID:69e96bce30896
DTSTAMP:20260423T004606Z
DTSTART:20190211T180000Z
DTEND:20190211T225000Z
LOCATION:Musikene
SUMMARY:JAZZ TRONPETA entzunaldia
DESCRIPTION:Chris Kase irakaslearen ikasleak\nhttps://musikene.eus/events/a
 udicion-trompeta-jazz/?lang=eu
URL:https://musikene.eus/events/audicion-trompeta-jazz/?lang=eu
END:VEVENT
END:VCALENDAR