BEGIN:VCALENDAR
VERSION:2.0
PRODID:-//eventon.com NONSGML v1.0//EN
CALSCALE:GREGORIAN
METHOD:PUBLISH
BEGIN:VEVENT
UID:69ed8806f279f
DTSTAMP:20260426T033534Z
DTSTART:20190131T183000Z
DTEND:20190131T225000Z
LOCATION:Orfeón Donostiarra San Juan kalea
SUMMARY:KANTU kontzertua
DESCRIPTION:KUTXA Ganbera Musika zikloa Nerea Benavent\,  sopranoa Josu Cab
 rero\,  tenorra Leonardo Moyano\,  pianoa 1. Ah\,  del padre in periglio”
  ………………..Don Giovanni ……..……W. A. Mozart 2. “Tus ojil
 los negros”………………………………..……………………
 ………M. de Falla 3. “Vivan los que ríen”……………………
 ..La vida breve………………M. de Falla 4. “Kaia barrenan”……
 ………………………..Herrikoia…………………..T. Garbizu 5
 . “Kalian dabiltz”……………………………………Herrikoia
 …………….Popular 6. “Luraren Pian”………………….……
 …………………………………………Aita Donostia[..]\nhttps:
 //musikene.eus/events/concierto-canto/?lang=eu
URL:https://musikene.eus/events/concierto-canto/?lang=eu
END:VEVENT
END:VCALENDAR